BEGIN:VCALENDAR
VERSION:2.0
PRODID:-//ChamberMaster//Event Calendar 2.0//EN
METHOD:PUBLISH
X-PUBLISHED-TTL:P3D
REFRESH-INTERVAL:P3D
CALSCALE:GREGORIAN
BEGIN:VEVENT
DTSTART:20260107T173000Z
DTEND:20260107T183000Z
X-MICROSOFT-CDO-ALLDAYEVENT:FALSE
SUMMARY:Program Committee Meeting
DESCRIPTION:For Program Committee
X-ALT-DESC;FMTTYPE=text/html:For Program Committee
LOCATION:(RAB Conference Room)
UID:e.9456.2589
SEQUENCE:3
DTSTAMP:20260422T102004Z
URL:https://business.rochesterareabuilders.com/events/details/program-committee-meeting-01-01-2026-2589
END:VEVENT

END:VCALENDAR
