BEGIN:VCALENDAR
VERSION:2.0
PRODID:-//ChamberMaster//Event Calendar 2.0//EN
METHOD:PUBLISH
X-PUBLISHED-TTL:P3D
REFRESH-INTERVAL:P3D
CALSCALE:GREGORIAN
BEGIN:VEVENT
DTSTART:20260331T213000Z
DTEND:20260331T233000Z
X-MICROSOFT-CDO-ALLDAYEVENT:FALSE
SUMMARY:Networking Night at Architechne
DESCRIPTION:Come connect with fellow RAB members at our March Networking Night! Enjoy food\, drinks\, giveaways\, and time to socialize and strengthen relationships with other members.\n\n\n\n**PLEASE NOTE** \nShowroom entrance is in the front and find parking on 5th street off north side of the building.
X-ALT-DESC;FMTTYPE=text/html:<span style="color: rgb(51\, 51\, 51)\; font-family: sans-serif\, Arial\, Verdana\, &quot\;Trebuchet MS&quot\;\; font-size: 13px\; background-color: rgb(255\, 255\, 255)\;">Come connect with fellow RAB members at our March Networking Night! Enjoy food\, drinks\, giveaways\, and time to socialize and strengthen relationships with other members.</span><br />\n<br />\n<span style="font-size: 12pt\; font-family: Calibri\, sans-serif\;">**PLEASE NOTE**&nbsp\;</span>\n<div><span style="font-size: 12pt\; font-family: Calibri\, sans-serif\;">Showroom entrance is in the front and find parking on 5<sup>th</sup>&nbsp\;street off north side of the building.</span></div>\n<br />\n&nbsp\;
LOCATION:Architechne 401 N Broadway Ave Suite 130 Rochester\, MN 55906
UID:e.9456.1123
SEQUENCE:3
DTSTAMP:20260420T100156Z
URL:https://business.rochesterareabuilders.com/events/details/networking-night-at-architechne-1123
END:VEVENT

END:VCALENDAR
