BEGIN:VCALENDAR
VERSION:2.0
PRODID:-//ChamberMaster//Event Calendar 2.0//EN
METHOD:PUBLISH
X-PUBLISHED-TTL:P3D
REFRESH-INTERVAL:P3D
CALSCALE:GREGORIAN
BEGIN:VEVENT
DTSTART:20260107T140000Z
DTEND:20260107T150000Z
X-MICROSOFT-CDO-ALLDAYEVENT:FALSE
SUMMARY:Commercial Builders Council Executive Meeting
DESCRIPTION:Commercial Builders Council Executive Meeting
X-ALT-DESC;FMTTYPE=text/html:Commercial Builders Council Executive Meeting
LOCATION:RAB Conference Room
UID:e.9456.6604
SEQUENCE:3
DTSTAMP:20260422T100346Z
URL:https://business.rochesterareabuilders.com/events/details/commercial-builders-council-executive-meeting-01-07-2026-6604
END:VEVENT

END:VCALENDAR
