BEGIN:VCALENDAR
VERSION:2.0
PRODID:-//ChamberMaster//Event Calendar 2.0//EN
METHOD:PUBLISH
X-PUBLISHED-TTL:P3D
REFRESH-INTERVAL:P3D
CALSCALE:GREGORIAN
BEGIN:VEVENT
DTSTART:20260130T000000Z
DTEND:20260130T030000Z
X-MICROSOFT-CDO-ALLDAYEVENT:FALSE
SUMMARY:40 Below Networking Social
DESCRIPTION:Kick off the new year with 40 Below at a relaxed\, social night out. Join fellow young professionals for an evening of drinks\, food\, and great conversation!\n\nThis is the perfect opportunity to meet new people\, catch up with familiar faces\, and expand your professional network with no formal agenda\, just good company and a fun atmosphere! \n\nPlease register so we can adjust our reservation accordingly.
X-ALT-DESC;FMTTYPE=text/html:<p data-end="363" data-start="133">Kick off the new year with <strong data-end="172" data-start="160">40 Below</strong> at a relaxed\, social night out. Join fellow young professionals for an evening of drinks\, food\, and great conversation!</p>\n\n<p data-end="634" data-start="365">This is the perfect opportunity to meet new people\, catch up with familiar faces\, and expand your professional network with no formal agenda\, just good company and a fun atmosphere!&nbsp\;</p>\n\n<p data-end="634" data-start="365"><strong>Please register so we can adjust our reservation accordingly.&nbsp\;</strong></p>\n\n<p data-end="729" data-start="636">&nbsp\;</p>\n<scribe-shadow data-crx="okfkdaglfjjjfefdcppliegebpoegaii" id="crxjs-ext" style="position: fixed\; width: 0px\; height: 0px\; top: 0px\; left: 0px\; z-index: 2147483647\; overflow: visible\; visibility: visible\;"></scribe-shadow>
LOCATION:The Workshop Food Hall & Bar 1232 3rd Ave SE\, Rochester
UID:e.9456.8787
SEQUENCE:3
DTSTAMP:20260424T125019Z
URL:https://business.rochesterareabuilders.com/events/details/40-below-networking-social-8787
END:VEVENT

END:VCALENDAR
