BEGIN:VCALENDAR
VERSION:2.0
PRODID:-//ChamberMaster//Event Calendar 2.0//EN
METHOD:PUBLISH
X-PUBLISHED-TTL:P3D
REFRESH-INTERVAL:P3D
CALSCALE:GREGORIAN
BEGIN:VEVENT
DTSTART:20260121T223000Z
DTEND:20260121T233000Z
X-MICROSOFT-CDO-ALLDAYEVENT:FALSE
SUMMARY:40 Below Executive Meeting
DESCRIPTION:40 Below Executive Committee Meeting
X-ALT-DESC;FMTTYPE=text/html:40 Below Executive Committee&nbsp\;Meeting&nbsp\;&nbsp\;&nbsp\;&nbsp\;&nbsp\;&nbsp\;&nbsp\;&nbsp\;
LOCATION:RAB Conference Room
UID:e.9456.7713
SEQUENCE:3
DTSTAMP:20260422T102230Z
URL:https://business.rochesterareabuilders.com/events/details/40-below-executive-meeting-01-21-2026-7713
END:VEVENT

END:VCALENDAR
