BEGIN:VCALENDAR
VERSION:2.0
PRODID:-//ChamberMaster//Event Calendar 2.0//EN
METHOD:PUBLISH
X-PUBLISHED-TTL:P3D
REFRESH-INTERVAL:P3D
CALSCALE:GREGORIAN
BEGIN:VEVENT
DTSTART;VALUE=DATE:20200207
DTEND;VALUE=DATE:20200210
TRANSP:TRANSPARENT
X-MICROSOFT-CDO-ALLDAYEVENT:TRUE
SUMMARY:Home Show 2020
DESCRIPTION:MAP FLOORPLAN - REGISTRATION\n\n\nClick here to view the map and register for a booth\n\n \n\n \nThe Rochester Area Builders Home Show is the place to see builders\, contractors\, associated businesses\, as well as other companies who do service in or around your home. Many new products will be shown here and you can ask those questions you've always wanted to ask.\n\n\n\nSeminars on both Saturday and Sunday. \n\n\n\nUPDATED THIS YEAR\n\n\n	Cost of admission has been lowered for adults to $8. Children 17 & under are free. \n	Friday Night Date Night - 2 for 1 adult admission. \n	Featured Attraction - Furever Homes\n	Online Booth Selection & Registration\n\n\n\nCancellations / Refunds\n\n\n	Cancellations must be made in writing\n	If cancel request is received after December 2\, 2019\, there will be NO REFUND even if space is resold. \n	No refund will be made for space that is unused during the Show.\n\n\n\nTIPS\, TRICKS & TESTIMONIALS\n\n\n	\n		\n			File Type\n			File Content\n		\n		\n			PDF\n			RAB Home Show Exhibitor Success Tips\n		\n		\n			PDF\n			RAB Home Show Frequently Asked Questions\n		\n		\n			PDF\n			7 Reasons to Exhibit in the RAB Home Show\n		\n		\n			PDF\n			Design Tips for Your RAB Home Show Booth\n		\n		\n			PDF\n			Exhibitor Testimonials\n		\n	\n\n\n\nCOMMUNICATIONS\n\n\n	\n		\n			File Type\n			File Content\n		\n		\n			PDF\n			Exhibitor Agreement\n		\n		\n			PDF\n			Move-In / Move-Out\n		\n		\n			PDF\n			Seminar Sessions - Opportunity Available\n		\n		\n			PDF\n			Facebook Live Spots - Opportunity Available\n		\n	\n\n\n\nEXHIBITOR PACKET\n\nMove-in and move-out times will be scheduled.\n\n\n	\n		\n			File Type\n			File Content\n			Deadlines\n		\n		\n			HTML\n			Mayo Civic Center Electrical & Water Services - Online Payment\n\n			(Click the HERE link\, choose February 2020\, then choose\n\n			Rochester Area Builders Home Show)\n			 \n		\n		\n			PDF\n			ST-19  (MN Revenue Operator Certificate of Compliance)\n			Jan. 17\, 2020\n		\n		\n			PDF\n			Furever Homes Creator (sign up form)\n			Jan. 17\, 2020\n		\n		\n			PDF\n			Resource Way Participant (sign up form)\n			Jan. 17\, 2020\n		\n		\n			PDF\n			Home Show Booth Prizes (Do you have some?)\n			Jan. 17\, 2020\n		\n		\n			PDF\n			Home Show Discount Tickets (Do you want some?)\n			Jan. 17\, 2020\n		\n		\n			DOCX\n			Seminars to the Public (MS Word sign up form)\n\n			Email Audra ASAP to reserve your date/time \n			Jan. 17\, 2020\n		\n		\n			HTML coming\n			Name Badge Registration (Enter your workers' names)\n			Jan. 17\, 2020\n		\n		\n			PDF coming\n			Members' Promotional Flyers\n			 \n		\n		\n			PDF coming\n			Construction Career Center (promotional student flyer)\n			 \n		\n		\n			PDF coming\n			RAB Home Show Promotional Flyer\n			 \n		\n		\n			PDF\n			RAB Informational Booklet\n			 \n		\n		\n			PDF\n			Brede Packet Information\n			 \n		\n		\n			 \n			 \n			 \n		\n		\n			Email\n			Shelly at the RAB Office
X-ALT-DESC;FMTTYPE=text/html:<strong><span style="color: rgb(152\, 1\, 11)\;"><span style="font-family: arial\, sans-serif\;"><span style="font-size: 18pt\;">MAP FLOORPLAN - REGISTRATION</span></span></span></strong>\n<p style="background: rgb(238\, 238\, 238)\; border: 1px solid rgb(204\, 204\, 204)\; padding: 5px 10px\;"><br />\n<span style="font-size: 20px\;"><strong><span class="marker"><a href="https://shows.map-dynamics.com/rabhs2020/?register">Click here to view the map and register for a booth</a></span></strong></span><br />\n&nbsp\;</p>\n\n<p>&nbsp\;</p>\nThe Rochester Area Builders Home Show is the place to see builders\, contractors\, associated businesses\, as well as other companies who do service in or around your home. Many new products will be shown here and you can ask those questions you&#39\;ve always wanted to ask.<br />\n<br />\nSeminars on both Saturday and Sunday.&nbsp\;<br />\n<br />\n<span style="font-size:20px\;"><strong><span style="color:#0000CD\;">UPDATED THIS YEAR</span></strong></span>\n\n<ul>\n	<li>Cost of admission has been lowered for adults to $8. Children 17 &amp\; under are free.&nbsp\;</li>\n	<li>Friday Night Date Night - 2 for 1 adult admission.&nbsp\;</li>\n	<li>Featured Attraction - Furever Homes</li>\n	<li>Online Booth Selection &amp\; Registration</li>\n</ul>\n<br />\n<u><strong>Cancellations / Refunds</strong></u>\n\n<ul>\n	<li>Cancellations must be made in writing</li>\n	<li>If cancel request is received after December 2\, 2019\, there will be NO REFUND even if space is resold.&#8203\;</li>\n	<li>No refund will be made for space that is unused during the Show.</li>\n</ul>\n<br />\n<strong><span style="color: rgb(152\, 1\, 11)\;"><span style="font-family: arial\, sans-serif\;"><span style="font-size: 18pt\;">TIPS\, TRICKS &amp\; TESTIMONIALS</span></span></span></strong>\n\n<table border="1" cellpadding="5" cellspacing="0" style="width: 500px\;">\n	<tbody>\n		<tr>\n			<td><span style="font-size:14px\;"><strong><span style="color: rgb(178\, 34\, 34)\;"><span style="background-color: rgb(255\, 215\, 0)\;">File Type</span></span></strong></span></td>\n			<td><span style="font-size:14px\;"><strong><span style="color: rgb(178\, 34\, 34)\;"><span style="background-color: rgb(255\, 215\, 0)\;">File Content</span></span></strong></span></td>\n		</tr>\n		<tr>\n			<td><span style="font-size:14px\;"><strong><a href="https://chambermaster.blob.core.windows.net/userfiles/UserFiles/chambers/9456/File/Home_Show/2020/3SuccessTips.pdf" target="_blank"><span style="font-family: arial\;">PDF</span></a></strong></span></td>\n			<td><span style="font-size:14px\;"><strong><span style="font-family:arial\;">RAB Home Show Exhibitor Success Tips</span></strong></span></td>\n		</tr>\n		<tr>\n			<td><span style="font-size:14px\;"><strong><a href="https://chambermaster.blob.core.windows.net/userfiles/UserFiles/chambers/9456/File/Home_Show/2020/4QA.pdf" target="_blank"><span style="font-family:arial\;">PDF</span></a></strong></span></td>\n			<td><span style="font-size:14px\;"><strong><span style="font-family:arial\;">RAB Home Show Frequently Asked Questions</span></strong></span></td>\n		</tr>\n		<tr>\n			<td><span style="font-size:14px\;"><strong><a href="https://chambermaster.blob.core.windows.net/userfiles/UserFiles/chambers/9456/File/Home_Show/2020/17Reasons.pdf" target="_blank"><span style="font-family: arial\;">PDF</span></a></strong></span></td>\n			<td><span style="font-size:14px\;"><strong><span style="font-family:arial\;">7 Reasons to Exhibit in the RAB Home Show</span></strong></span></td>\n		</tr>\n		<tr>\n			<td><span style="font-size:14px\;"><strong><a href="https://chambermaster.blob.core.windows.net/userfiles/UserFiles/chambers/9456/File/Home_Show/2020/2DesignTips.pdf" target="_blank"><span style="font-family:arial\;">PDF</span></a></strong></span></td>\n			<td><span style="font-size:14px\;"><strong><span style="font-family:arial\;">Design Tips for Your RAB Home Show Booth</span></strong></span></td>\n		</tr>\n		<tr>\n			<td><span style="font-size:14px\;"><strong><a href="https://chambermaster.blob.core.windows.net/userfiles/UserFiles/chambers/9456/File/Home_Show/2020/2020HomeShowTestimonials.pdf" target="_blank">PDF</a></strong></span></td>\n			<td><span style="font-size:14px\;"><strong>Exhibitor Testimonials</strong></span></td>\n		</tr>\n	</tbody>\n</table>\n<br />\n<strong><span style="color: rgb(152\, 1\, 11)\;"><span style="font-family: arial\, sans-serif\;"><span style="font-size: 18pt\;">COMMUNICATIONS</span></span></span></strong>\n\n<table border="1" cellpadding="5" cellspacing="0">\n	<tbody>\n		<tr>\n			<td><span style="font-size:14px\;"><span style="color: rgb(178\, 34\, 34)\;"><strong><span style="background-color: rgb(255\, 215\, 0)\;">File Type</span></strong></span></span></td>\n			<td><span style="font-size:14px\;"><span style="color: rgb(178\, 34\, 34)\;"><strong><span style="background-color: rgb(255\, 215\, 0)\;">File Content</span></strong></span></span></td>\n		</tr>\n		<tr>\n			<td><span style="font-size:14px\;"><a href="https://chambermaster.blob.core.windows.net/userfiles/UserFiles/chambers/9456/File/Home_Show/2020HSContractExhibitorAgreement.pdf" target="_blank"><strong>PDF</strong></a></span></td>\n			<td><span style="font-size:14px\;"><strong>Exhibitor Agreement</strong></span></td>\n		</tr>\n		<tr>\n			<td><span style="font-size:14px\;"><strong><a href="https://chambermaster.blob.core.windows.net/userfiles/UserFiles/chambers/9456/File/Home_Show/2020/Mapmove-in-out.pdf" target="_blank">PDF</a></strong></span></td>\n			<td><span style="font-size:14px\;"><strong>Move-In / Move-Out</strong></span></td>\n		</tr>\n		<tr>\n			<td><span style="font-size:14px\;"><a href="https://chambermaster.blob.core.windows.net/userfiles/UserFiles/chambers/9456/File/Home_Show/2020/SeminarSessionRequest.pdf" target="_blank"><strong>PDF</strong></a></span></td>\n			<td><span style="font-size:14px\;"><strong>Seminar Sessions - Opportunity Available</strong></span></td>\n		</tr>\n		<tr>\n			<td><span style="font-size:14px\;"><a href="https://chambermaster.blob.core.windows.net/userfiles/UserFiles/chambers/9456/File/Home_Show/2020/FacebookLive-Request.pdf" target="_blank"><strong>PDF</strong></a></span></td>\n			<td><span style="font-size:14px\;"><strong>Facebook Live Spots - Opportunity Available</strong></span></td>\n		</tr>\n	</tbody>\n</table>\n<br />\n<strong><span style="color: rgb(152\, 1\, 11)\;"><span style="font-family: arial\, sans-serif\;"><span style="font-size: 18pt\;">EXHIBITOR PACKET</span></span></span></strong><br />\n<span style="color: black\;"><span style="font-family: arial\, sans-serif\;"><span style="font-size: 10.5pt\;">Move-in and move-out times will be scheduled.</span></span></span>\n\n<table border="1" cellpadding="0" cellspacing="0" style="background-image: initial\; background-position: initial\; background-size: initial\; background-repeat: initial\; background-attachment: initial\; background-origin: initial\; background-clip: initial\;">\n	<tbody>\n		<tr>\n			<td style="padding: 3.75pt\;"><span style="color: rgb(178\, 34\, 34)\;"><strong><span style="font-family: arial\, sans-serif\;"><span style="background-color: rgb(255\, 215\, 0)\;">File Type</span></span></strong></span></td>\n			<td style="padding: 3.75pt\;"><span style="color: rgb(178\, 34\, 34)\;"><strong><span style="font-family: arial\, sans-serif\;"><span style="background-color: rgb(255\, 215\, 0)\;">File Content</span></span></strong></span></td>\n			<td style="padding: 3.75pt\;"><span style="color: rgb(178\, 34\, 34)\;"><strong><span style="font-family: arial\, sans-serif\;"><span style="background-color: rgb(255\, 215\, 0)\;">Deadlines</span></span></strong></span></td>\n		</tr>\n		<tr>\n			<td style="padding: 3.75pt\;"><a href="https://mayociviccenter.com/exhibitors/exhibitor-information" target="_blank"><strong>HTML</strong></a></td>\n			<td style="padding: 3.75pt\;"><strong><span style="font-family: arial\, sans-serif\;"><span style="background-color:#FFFF00\;">Mayo Civic Center Electrical &amp\; Water Services - Online Payment</span></span></strong><br style="font-family: arial\, sans-serif\;" />\n			<em style="font-family: arial\, sans-serif\;">(Click the HERE link\, choose February 2020\, then choose<br />\n			Rochester Area Builders Home Show)</em></td>\n			<td style="padding: 3.75pt\;">&nbsp\;</td>\n		</tr>\n		<tr>\n			<td style="padding: 3.75pt\;"><strong><a href="https://www.revenue.state.mn.us/sites/default/files/2011-11/st19.pdf" target="_blank">PDF</a></strong></td>\n			<td style="padding: 3.75pt\;"><strong><span style="font-family: arial\, sans-serif\;">ST-19&nbsp\; (MN Revenue Operator Certificate of Compliance)</span></strong></td>\n			<td style="padding: 3.75pt\;"><span style="font-family: arial\, sans-serif\;">Jan. 17\, 2020</span></td>\n		</tr>\n		<tr>\n			<td style="padding: 3.75pt\;"><a href="https://chambermaster.blob.core.windows.net/userfiles/UserFiles/chambers/9456/File/Home_Show/2020/FureverHomesRegistration.pdf" target="_blank"><strong>PDF</strong></a></td>\n			<td style="padding: 3.75pt\;"><strong><span style="font-family: arial\, sans-serif\;">Furever Homes Creator&nbsp\;<em>(sign up form)</em></span></strong></td>\n			<td style="padding: 3.75pt\;"><span style="font-family: arial\, sans-serif\;">Jan. 17\, 2020</span></td>\n		</tr>\n		<tr>\n			<td style="padding: 3.75pt\;"><a href="https://chambermaster.blob.core.windows.net/userfiles/UserFiles/chambers/9456/File/Home_Show/2020/Flyer2020.pdf" target="_blank"><strong>PDF</strong></a></td>\n			<td style="padding: 3.75pt\;"><strong><span style="font-family: arial\, sans-serif\;">Resource Way Participant&nbsp\;<em>(sign up form)</em></span></strong></td>\n			<td style="padding: 3.75pt\;"><span style="font-family: arial\, sans-serif\;">Jan. 17\, 2020</span></td>\n		</tr>\n		<tr>\n			<td style="padding: 3.75pt\;"><strong><a href="https://chambermaster.blob.core.windows.net/userfiles/UserFiles/chambers/9456/File/Home_Show/2020/BoothGiveawaysforExhibitors.pdf" target="_blank">PDF</a></strong></td>\n			<td style="padding: 3.75pt\;"><strong><span style="font-family: arial\, sans-serif\;">Home Show Booth Prizes&nbsp\;<em>(Do you have some?)</em></span></strong></td>\n			<td style="padding: 3.75pt\;"><span style="font-family: arial\, sans-serif\; font-size: 14px\;">Jan. 17\, 2020</span></td>\n		</tr>\n		<tr>\n			<td style="padding: 3.75pt\;"><a href="https://chambermaster.blob.core.windows.net/userfiles/UserFiles/chambers/9456/File/Home_Show/2020/20OrderTickets.pdf"><strong>PDF</strong></a></td>\n			<td style="padding: 3.75pt\;"><strong><span style="font-family: arial\, sans-serif\;">Home Show Discount Tickets&nbsp\;<em>(Do you want some?)</em></span></strong></td>\n			<td style="padding: 3.75pt\;"><span style="color: rgb(128\, 128\, 128)\; font-family: arial\, sans-serif\; font-size: 14px\;">Jan. 17\, 2020</span></td>\n		</tr>\n		<tr>\n			<td style="padding: 3.75pt\;"><a href="https://chambermaster.blob.core.windows.net/userfiles/UserFiles/chambers/9456/File/Home_Show/2020/2020SeminarInformationForm.docx" target="_blank"><b>DOCX</b></a></td>\n			<td style="padding: 3.75pt\;"><strong><span style="font-family: arial\, sans-serif\;">Seminars to the Public&nbsp\;<em>(MS Word sign up form)</em></span></strong><br />\n			<span style="font-family: arial\, sans-serif\;"><em>Email <a href="mailto:audra@rochesterareabuilders.com?subject=Home%20Show%20Seminar&amp\;body=I%20would%20like%20to%20reserve%20a%20time%20for%20a%20seminar%20at%20the%202020%20Home%20Show.">Audra</a>&nbsp\;ASAP to reserve your date/time&nbsp\;</em></span></td>\n			<td style="padding: 3.75pt\;"><span style="color: rgb(128\, 128\, 128)\; font-family: arial\, sans-serif\; font-size: 14px\;">Jan. 17\, 2020</span></td>\n		</tr>\n		<tr>\n			<td style="padding: 3.75pt\;"><span style="color: rgb(128\, 128\, 128)\;">HTML coming</span></td>\n			<td style="padding: 3.75pt\;"><span style="color: rgb(128\, 128\, 128)\; font-family: arial\, sans-serif\;">Name Badge Registration&nbsp\;</span><em style="color: rgb(128\, 128\, 128)\; font-family: arial\, sans-serif\;">(Enter your workers&#39\; names)</em></td>\n			<td style="padding: 3.75pt\;"><span style="color: rgb(128\, 128\, 128)\; font-family: arial\, sans-serif\; font-size: 14px\;">Jan. 17\, 2020</span></td>\n		</tr>\n		<tr>\n			<td style="padding: 3.75pt\;"><span style="color: rgb(128\, 128\, 128)\;">PDF&nbsp\;coming</span></td>\n			<td style="padding: 3.75pt\;"><span style="color: rgb(128\, 128\, 128)\;"><span style="font-family: arial\, sans-serif\;">Members&#39\; Promotional Flyers</span></span></td>\n			<td style="padding: 3.75pt\;">&nbsp\;</td>\n		</tr>\n		<tr>\n			<td style="padding: 3.75pt\;"><span style="color: rgb(128\, 128\, 128)\;">PDF&nbsp\;coming</span></td>\n			<td style="padding: 3.75pt\;"><span style="color: rgb(128\, 128\, 128)\;"><span style="font-family: arial\, sans-serif\;">Construction Career Center&nbsp\;<em>(promotional student flyer)</em></span></span></td>\n			<td style="padding: 3.75pt\;">&nbsp\;</td>\n		</tr>\n		<tr>\n			<td style="padding: 3.75pt\;"><span style="color: rgb(128\, 128\, 128)\;">PDF&nbsp\;coming</span></td>\n			<td style="padding: 3.75pt\;"><span style="color: rgb(128\, 128\, 128)\;"><span style="font-family: arial\, sans-serif\;">RAB Home Show Promotional Flyer</span></span></td>\n			<td style="padding: 3.75pt\;">&nbsp\;</td>\n		</tr>\n		<tr>\n			<td style="padding: 3.75pt\;"><a href="https://chambermaster.blob.core.windows.net/userfiles/UserFiles/chambers/9456/File/Home_Show/2020/HS-Pink-Packet-2020.pdf"><strong>PDF</strong></a></td>\n			<td style="padding: 3.75pt\;"><strong><span style="font-family: arial\, sans-serif\;">RAB Informational Booklet</span></strong></td>\n			<td style="padding: 3.75pt\;">&nbsp\;</td>\n		</tr>\n		<tr>\n			<td style="padding: 3.75pt\;"><a href="https://chambermaster.blob.core.windows.net/userfiles/UserFiles/chambers/9456/File/Home_Show/2020/2020BREDEPACKET.pdf"><strong>PDF</strong></a></td>\n			<td style="padding: 3.75pt\;"><strong><span style="font-family: arial\, sans-serif\;">Brede Packet Information</span></strong></td>\n			<td style="padding: 3.75pt\;">&nbsp\;</td>\n		</tr>\n		<tr>\n			<td style="padding: 3.75pt\;">&nbsp\;</td>\n			<td style="padding: 3.75pt\;">&nbsp\;</td>\n			<td style="padding: 3.75pt\;">&nbsp\;</td>\n		</tr>\n		<tr>\n			<td style="padding: 3.75pt\;"><span style="color: black\;"><span style="font-family: arial\, sans-serif\;">Email</span></span></td>\n			<td style="padding: 3.75pt\;"><span style="color: black\;"><span style="font-family: arial\, sans-serif\;"><a href="mailto:shelly@rochesterareabuilders.com?subject=Home%20Show%20Question&amp\;body=I%20have%20a%20question%20about%20the%202020%20Home%20Show."><strong><span style="text-decoration-line: none\;"><span style="color: rgb(0\, 83\, 160)\;">Shelly&nbsp\;</span></span></strong></a>at the RAB Office</span></span></td>\n			<td style="padding: 3.75pt\;">&nbsp\;</td>\n		</tr>\n	</tbody>\n</table>\n<br />\n&nbsp\;
LOCATION:Mayo Civic Center Rochester\, MN
UID:e.9456.2264
SEQUENCE:3
DTSTAMP:20260421T185301Z
URL:http://business.rochesterareabuilders.com/events/details/home-show-2020-2264
END:VEVENT

END:VCALENDAR
