BEGIN:VCALENDAR
VERSION:2.0
PRODID:-//ChamberMaster//Event Calendar 2.0//EN
METHOD:PUBLISH
X-PUBLISHED-TTL:P3D
REFRESH-INTERVAL:P3D
CALSCALE:GREGORIAN
BEGIN:VEVENT
DTSTART:20240921T160000Z
DTEND:20240922T220000Z
X-MICROSOFT-CDO-ALLDAYEVENT:FALSE
SUMMARY:Fall Showcase of Homes 2024
DESCRIPTION:September 21-22\, 28-29 11:00am to 5:00pm each day\n\nBe the first to see the best finished homes on the Rochester market! Featuring up-and-coming developments and townhome communities as well as newly built custom homes\, the Fall Showcase is the perfect place to find your next home or find a builder who can create the home of your dreams.
X-ALT-DESC;FMTTYPE=text/html:<p><strong>September 21-22\, 28-29 11:00am to 5:00pm each day</strong></p>\n\n<p>Be the first to see the best finished homes on the Rochester market! Featuring up-and-coming developments and townhome communities as well as newly built custom homes\, the Fall Showcase is the perfect place to find your next home&ndash\;or find a builder who can create the home of your dreams.</p>\n\n<p>&nbsp\;</p>\n
LOCATION:Rochester and Surrounding
UID:e.9456.8194
SEQUENCE:3
DTSTAMP:20260422T051541Z
URL:http://business.rochesterareabuilders.com/events/details/fall-showcase-of-homes-2024-8194
END:VEVENT

END:VCALENDAR
